BEGIN:VCALENDAR
VERSION:2.0
PRODID:-//European Baromedical Association - ECPv6.15.20//NONSGML v1.0//EN
CALSCALE:GREGORIAN
METHOD:PUBLISH
X-WR-CALNAME:European Baromedical Association
X-ORIGINAL-URL:https://ebass.org
X-WR-CALDESC:Events for European Baromedical Association
REFRESH-INTERVAL;VALUE=DURATION:PT1H
X-Robots-Tag:noindex
X-PUBLISHED-TTL:PT1H
BEGIN:VTIMEZONE
TZID:UTC
BEGIN:STANDARD
TZOFFSETFROM:+0000
TZOFFSETTO:+0000
TZNAME:UTC
DTSTART:20170101T000000
END:STANDARD
END:VTIMEZONE
BEGIN:VEVENT
DTSTART;VALUE=DATE:20180421
DTEND;VALUE=DATE:20180422
DTSTAMP:20260422T175036
CREATED:20190124T171450Z
LAST-MODIFIED:20190128T083208Z
UID:20737-1524268800-1524355199@ebass.org
SUMMARY:1st RIJEKA Symposium on Hyperbaric Oxygen Therapy
DESCRIPTION:
URL:https://ebass.org/event/1st-rijeka-symposium-on-hyperbaric-oxygen-therapy/
LOCATION:Clinical Hospital Center Rijeka\, Sušak Ul. Tome Strižića 3 51000\, Rijeka\, Croatia (Local Name: Hrvatska)
END:VEVENT
END:VCALENDAR