BEGIN:VCALENDAR
VERSION:2.0
PRODID:-//European Baromedical Association - ECPv6.15.20//NONSGML v1.0//EN
CALSCALE:GREGORIAN
METHOD:PUBLISH
X-WR-CALNAME:European Baromedical Association
X-ORIGINAL-URL:https://ebass.org
X-WR-CALDESC:Events for European Baromedical Association
REFRESH-INTERVAL;VALUE=DURATION:PT1H
X-Robots-Tag:noindex
X-PUBLISHED-TTL:PT1H
BEGIN:VTIMEZONE
TZID:UTC
BEGIN:STANDARD
TZOFFSETFROM:+0000
TZOFFSETTO:+0000
TZNAME:UTC
DTSTART:20200101T000000
END:STANDARD
END:VTIMEZONE
BEGIN:VTIMEZONE
TZID:Europe/Brussels
BEGIN:DAYLIGHT
TZOFFSETFROM:+0100
TZOFFSETTO:+0200
TZNAME:CEST
DTSTART:20200329T010000
END:DAYLIGHT
BEGIN:STANDARD
TZOFFSETFROM:+0200
TZOFFSETTO:+0100
TZNAME:CET
DTSTART:20201025T010000
END:STANDARD
BEGIN:DAYLIGHT
TZOFFSETFROM:+0100
TZOFFSETTO:+0200
TZNAME:CEST
DTSTART:20210328T010000
END:DAYLIGHT
BEGIN:STANDARD
TZOFFSETFROM:+0200
TZOFFSETTO:+0100
TZNAME:CET
DTSTART:20211031T010000
END:STANDARD
BEGIN:DAYLIGHT
TZOFFSETFROM:+0100
TZOFFSETTO:+0200
TZNAME:CEST
DTSTART:20220327T010000
END:DAYLIGHT
BEGIN:STANDARD
TZOFFSETFROM:+0200
TZOFFSETTO:+0100
TZNAME:CET
DTSTART:20221030T010000
END:STANDARD
END:VTIMEZONE
BEGIN:VEVENT
DTSTART;VALUE=DATE:20250905
DTEND;VALUE=DATE:20250906
DTSTAMP:20260424T160445
CREATED:20250731T165036Z
LAST-MODIFIED:20250818T181900Z
UID:31385-1757030400-1757116799@ebass.org
SUMMARY:EBAss General Assembly 2025
DESCRIPTION:
URL:https://ebass.org/event/ebass-general-assembly-2025/
LOCATION:Marina Congress Center\, Katajanokanlaituri 6\, Helsinki\, Helsinki\, 00160\, Finland
CATEGORIES:Congresses
ATTACH;FMTTYPE=image/png:https://ebass.org/wp-content/uploads/2025/07/BD-and-GA-2025.png
ORGANIZER;CN="EBAss":MAILTO:info@ebass.org
END:VEVENT
BEGIN:VEVENT
DTSTART;VALUE=DATE:20241009
DTEND;VALUE=DATE:20241013
DTSTAMP:20260424T160445
CREATED:20240226T101315Z
LAST-MODIFIED:20240226T101315Z
UID:29791-1728432000-1728777599@ebass.org
SUMMARY:Hyperbaric Oxygen Therapy & Functional Medicine
DESCRIPTION:
URL:https://ebass.org/event/hyperbaric-oxygen-therapy-functional-medicine/
CATEGORIES:Congresses
ATTACH;FMTTYPE=image/jpeg:https://ebass.org/wp-content/uploads/2024/02/IHA-2024.jpg
ORGANIZER;CN="International Hyperbarics Association":MAILTO:ashley@ihausa.org
END:VEVENT
BEGIN:VEVENT
DTSTART;VALUE=DATE:20240916
DTEND;VALUE=DATE:20240921
DTSTAMP:20260424T160445
CREATED:20231212T123809Z
LAST-MODIFIED:20231212T131611Z
UID:29568-1726444800-1726876799@ebass.org
SUMMARY:EUBS Annual Scientific Meeting 2024
DESCRIPTION:
URL:https://ebass.org/event/eubs-annual-scientific-meeting-2024/
LOCATION:The QUARTZ – Brest Conference Center\, 60 Rue du Château\, Brest\, Cedex 1\, 29200\, France
CATEGORIES:Congresses
ATTACH;FMTTYPE=image/png:https://ebass.org/wp-content/uploads/2023/12/24_EUBS_Brest-668x419-1.png
END:VEVENT
BEGIN:VEVENT
DTSTART;VALUE=DATE:20240613
DTEND;VALUE=DATE:20240616
DTSTAMP:20260424T160445
CREATED:20240226T094628Z
LAST-MODIFIED:20240226T101408Z
UID:29786-1718236800-1718495999@ebass.org
SUMMARY:2024 UHMS Annual Scientific Meeting
DESCRIPTION:
URL:https://ebass.org/event/2024-uhms-annual-scientific-meeting/
LOCATION:Crowne Plaza New Orleans French Qtr – Astor\, 739 Canal St. Bourbon\, New Orleans\, LA\, 70130\, United States
CATEGORIES:Congresses
ATTACH;FMTTYPE=image/png:https://ebass.org/wp-content/uploads/2024/02/ASM24-5-231e60f1.png
END:VEVENT
BEGIN:VEVENT
DTSTART;VALUE=DATE:20230915
DTEND;VALUE=DATE:20230916
DTSTAMP:20260424T160445
CREATED:20230613T204307Z
LAST-MODIFIED:20230613T204820Z
UID:29105-1694736000-1694822399@ebass.org
SUMMARY:EBAss GA meeting 2023 | Porto
DESCRIPTION:
URL:https://ebass.org/event/ebass-ga-meeting-2023-porto/
LOCATION:Hilton Porto Gaia\, R. de Serpa Pinto 124\, 4400-307 – Vila Nova de Gaia\, Porto\, 4400-307\, Portugal
CATEGORIES:Congresses
ATTACH;FMTTYPE=image/jpeg:https://ebass.org/wp-content/uploads/2023/06/porto-abitazioni.jpg
ORGANIZER;CN="EBAss":MAILTO:info@ebass.org
END:VEVENT
BEGIN:VEVENT
DTSTART;VALUE=DATE:20230913
DTEND;VALUE=DATE:20230917
DTSTAMP:20260424T160445
CREATED:20230612T172816Z
LAST-MODIFIED:20230613T210900Z
UID:29086-1694563200-1694908799@ebass.org
SUMMARY:EUBS 2023
DESCRIPTION:
URL:https://ebass.org/event/eubs-2023/
LOCATION:Hilton Porto Gaia\, R. de Serpa Pinto 124\, 4400-307 – Vila Nova de Gaia\, Porto\, 4400-307\, Portugal
CATEGORIES:Congresses
ATTACH;FMTTYPE=image/png:https://ebass.org/wp-content/uploads/2023/06/EUBS2023.png
END:VEVENT
BEGIN:VEVENT
DTSTART;VALUE=DATE:20230616
DTEND;VALUE=DATE:20230619
DTSTAMP:20260424T160445
CREATED:20230613T210359Z
LAST-MODIFIED:20230613T210806Z
UID:29112-1686873600-1687132799@ebass.org
SUMMARY:UHMS Annual Scientific Meeting
DESCRIPTION:
URL:https://ebass.org/event/uhms-annual-scientific-meeting-2/
LOCATION:Sheraton San Diego Hotel & Marina\, 1380 Harbor Island Dr\, San Diego\, CA\, 92101\, United States
CATEGORIES:Congresses
ATTACH;FMTTYPE=image/png:https://ebass.org/wp-content/uploads/2023/06/AnnualScientific_Meeting_UHMS.png
END:VEVENT
BEGIN:VEVENT
DTSTART;TZID=UTC:20221210T100000
DTEND;TZID=UTC:20221210T160000
DTSTAMP:20260424T160445
CREATED:20221113T122241Z
LAST-MODIFIED:20221122T113226Z
UID:28376-1670666400-1670688000@ebass.org
SUMMARY:EBAss GA meeting 2022
DESCRIPTION:
URL:https://ebass.org/event/ebass-ga-meeting/
LOCATION:DDRC Healthcare Plymouth\, DDRC Healthcare\, Hyperbaric Medical Centre\, Research Way\, Plymouth Science Park\, Plymouth\, Devon\, PL6 8BU\, United Kingdom
CATEGORIES:Congresses
ATTACH;FMTTYPE=image/png:https://ebass.org/wp-content/uploads/2022/11/plymouth2.png
ORGANIZER;CN="EBAss":MAILTO:info@ebass.org
END:VEVENT
BEGIN:VEVENT
DTSTART;VALUE=DATE:20220831
DTEND;VALUE=DATE:20220904
DTSTAMP:20260424T160445
CREATED:20210407T210321Z
LAST-MODIFIED:20220416T104330Z
UID:26955-1661904000-1662249599@ebass.org
SUMMARY:46th Annual EUBS Scientific Meeting
DESCRIPTION:Early bird registration rates are available until May 31st\, and hotel accommodation is expected to be scarce in that period\, so hurry and book early ! Send your abstract and start preparing ! Your friends will be there too 🙂
URL:https://ebass.org/event/eubs-annual-scientific-meeting/
LOCATION:NH Hotel Prague City\, Mozartova 261/1\, Prague\, Czech Republic
CATEGORIES:Congresses
ATTACH;FMTTYPE=image/png:https://ebass.org/wp-content/uploads/2021/04/EUBS-2022.png
END:VEVENT
BEGIN:VEVENT
DTSTART;VALUE=DATE:20220502
DTEND;VALUE=DATE:20220506
DTSTAMP:20260424T160445
CREATED:20220310T121926Z
LAST-MODIFIED:20220310T122254Z
UID:27818-1651449600-1651795199@ebass.org
SUMMARY:14th World Congress of Anesthesia Nurses
DESCRIPTION:
URL:https://ebass.org/event/14th-world-congress-of-anesthesia-nurses/
LOCATION:Amadria Park Sibenik – Croatia\, Hoteli Solaris 86\, Sibenik\, Croatia\, 22000
CATEGORIES:Congresses
END:VEVENT
BEGIN:VEVENT
DTSTART;VALUE=DATE:20210603
DTEND;VALUE=DATE:20210606
DTSTAMP:20260424T160445
CREATED:20210407T204452Z
LAST-MODIFIED:20210407T205215Z
UID:26947-1622678400-1622937599@ebass.org
SUMMARY:Baltic International Symposium on Diving & Hyperbaric Medicine
DESCRIPTION:BIS_on_DHM: Advances and up-to-date knowledge for professionals \nDear colleagues\,\nDue to the again worsening world-wide situation due to coronavirus\,\nwe have decided to postpone the Symposium once more\, this time\nto 3rd – 5th June 2021. \nWe have also decided to upgrade the Symposium to the HYBRID version\, allowing some participants to register for the on-line access only. While electronic streaming will be possible\, the face-to-face meetings with a good time for personal contacts are expected and strongly preferred. Especially that in June the seaside of the Baltic Sea is truly lovely.
URL:https://ebass.org/event/baltic-international-symposium-on-diving-hyperbaric-medicine/
LOCATION:Hotel Nadmorski\, Juliana Ejsmonda Street 2\, Gdynia\, 81-409\, Poland
CATEGORIES:Congresses
ATTACH;FMTTYPE=image/png:https://ebass.org/wp-content/uploads/2021/04/BIS2.png
END:VEVENT
BEGIN:VEVENT
DTSTART;TZID=Europe/Brussels:20210310T160000
DTEND;TZID=Europe/Brussels:20210310T190000
DTSTAMP:20260424T160445
CREATED:20210218T164054Z
LAST-MODIFIED:20210305T092031Z
UID:26747-1615392000-1615402800@ebass.org
SUMMARY:EUBS Webinar on COVID-19
DESCRIPTION:EUBS Webinar on COVID-19\, will be held on March 10\, 2021 from 1600-1900 (Central European Time) \nRegistration is now open. \nThis Webinar is free of charge to everyone\, not limited to EUBS members.\nCertificates of attendance will be downloadable individually after the event.
URL:https://ebass.org/event/eubs-webinar-on-covid-19/
LOCATION:EUBS Webinar
CATEGORIES:Congresses,COVID-19
END:VEVENT
END:VCALENDAR