BEGIN:VCALENDAR
VERSION:2.0
PRODID:-//European Baromedical Association - ECPv6.15.20//NONSGML v1.0//EN
CALSCALE:GREGORIAN
METHOD:PUBLISH
X-WR-CALNAME:European Baromedical Association
X-ORIGINAL-URL:https://ebass.org
X-WR-CALDESC:Events for European Baromedical Association
REFRESH-INTERVAL;VALUE=DURATION:PT1H
X-Robots-Tag:noindex
X-PUBLISHED-TTL:PT1H
BEGIN:VTIMEZONE
TZID:UTC
BEGIN:STANDARD
TZOFFSETFROM:+0000
TZOFFSETTO:+0000
TZNAME:UTC
DTSTART:20240101T000000
END:STANDARD
END:VTIMEZONE
BEGIN:VEVENT
DTSTART;VALUE=DATE:20250902
DTEND;VALUE=DATE:20250907
DTSTAMP:20260422T090043
CREATED:20250330T175551Z
LAST-MODIFIED:20250601T114013Z
UID:30955-1756771200-1757203199@ebass.org
SUMMARY:EUBS Annual Scientific Meeting 2025
DESCRIPTION:
URL:https://ebass.org/event/eubs-annual-scientific-meeting-2025/
LOCATION:Marina Congress Center\, Katajanokanlaituri 6\, Helsinki\, Helsinki\, 00160\, Finland
ATTACH;FMTTYPE=image/png:https://ebass.org/wp-content/uploads/2025/03/EUBS-2025_500x500.png
END:VEVENT
END:VCALENDAR