BEGIN:VCALENDAR
VERSION:2.0
PRODID:-//European Baromedical Association - ECPv6.15.20//NONSGML v1.0//EN
CALSCALE:GREGORIAN
METHOD:PUBLISH
X-ORIGINAL-URL:https://ebass.org
X-WR-CALDESC:Events for European Baromedical Association
REFRESH-INTERVAL;VALUE=DURATION:PT1H
X-Robots-Tag:noindex
X-PUBLISHED-TTL:PT1H
BEGIN:VTIMEZONE
TZID:UTC
BEGIN:STANDARD
TZOFFSETFROM:+0000
TZOFFSETTO:+0000
TZNAME:UTC
DTSTART:20230101T000000
END:STANDARD
END:VTIMEZONE
BEGIN:VEVENT
DTSTART;VALUE=DATE:20241026
DTEND;VALUE=DATE:20241028
DTSTAMP:20260425T024901
CREATED:20241019T132622Z
LAST-MODIFIED:20241019T132622Z
UID:30339-1729900800-1730073599@ebass.org
SUMMARY:2024 HTNA CONFERENCE
DESCRIPTION:
URL:https://ebass.org/event/2024-htna-conference/
LOCATION:Peppers Resort Kingscliff\, NSW\, Kingscliff\, Southern Highlands\, NEW SOUTH WALES\, Australia
ATTACH;FMTTYPE=image/jpeg:https://ebass.org/wp-content/uploads/2024/10/HTNA.jpg
END:VEVENT
END:VCALENDAR